BEGIN:VCALENDAR
PRODID:-//Microsoft Corporation//Outlook 14.0 MIMEDIR//EN
VERSION:2.0
METHOD:PUBLISH
BEGIN:VEVENT
UID:bc846352eedd68462e4b1c94a343960fwww.ville.sainte-anne-de-bellevue.qc.ca
DTSTAMP:20260422T002936Z
DTSTART:2026-04-22T18:30:0000Z
DTEND:2026-04-22T18:30:0000Z
SUMMARY:Conseil municipal : séance extraordinaire
LOCATION:
DESCRIPTION:Le mercredi 22 avril, une séance extraordinaire du conseil municipal aura lieu à 18 h 30. Cette séance se tiendra au centre Harpell et sera ouverte au public.
END:VEVENT
END:VCALENDAR