BEGIN:VCALENDAR
PRODID:-//Microsoft Corporation//Outlook 14.0 MIMEDIR//EN
VERSION:2.0
METHOD:PUBLISH
BEGIN:VEVENT
UID:38614c957e7dd6d2beacdbea9a7bcd5fwww.ville.sainte-anne-de-bellevue.qc.ca
DTSTAMP:20260421T180825Z
DTSTART:2026-05-19T07:00:0000Z
DTEND:2026-05-22T07:00:0000Z
SUMMARY:Semaines de l’embellissement (quartier Nord)
LOCATION:
DESCRIPTION:Les Semaines de l’embellissement sont de retour !

Déposez vos encombrants en bordure de rue avant 7 h et le service des travaux publics sillonnera les rues afin de les ramasser gratuitement !
END:VEVENT
END:VCALENDAR