BEGIN:VCALENDAR
PRODID:-//Microsoft Corporation//Outlook 14.0 MIMEDIR//EN
VERSION:2.0
METHOD:PUBLISH
BEGIN:VEVENT
UID:1708c3ad99b285c9b3e44ad07d2ca617www.ville.sainte-anne-de-bellevue.qc.ca
DTSTAMP:20260421T052911Z
DTSTART:2026-03-11T19:00:0000Z
DTEND:2026-03-11T19:00:0000Z
SUMMARY: Club de lecture anglophone
LOCATION:
DESCRIPTION:Les membres se rencontrent après avoir lu un livre commun et discutent de leurs impressions. Les personnes intéressées doivent s’inscrire à la bibliothèque.
END:VEVENT
END:VCALENDAR