BEGIN:VCALENDAR
PRODID:-//Microsoft Corporation//Outlook 14.0 MIMEDIR//EN
VERSION:2.0
METHOD:PUBLISH
BEGIN:VEVENT
UID:c857df2dbf15362378ef0f4c64cfa22dwww.ville.sainte-anne-de-bellevue.qc.ca
DTSTAMP:20260421T052303Z
DTSTART:2026-04-08T19:00:0000Z
DTEND:2026-04-08T19:00:0000Z
SUMMARY: Club de lecture anglophone
LOCATION:
DESCRIPTION:Les membres se rencontrent après avoir lu un livre commun et discutent de leurs impressions. Les personnes intéressées doivent s’inscrire à la bibliothèque.
END:VEVENT
END:VCALENDAR