BEGIN:VCALENDAR
PRODID:-//Microsoft Corporation//Outlook 14.0 MIMEDIR//EN
VERSION:2.0
METHOD:PUBLISH
BEGIN:VEVENT
UID:362568f35ea03b36b0a2f31a21724c35www.ville.sainte-anne-de-bellevue.qc.ca
DTSTAMP:20260421T002831Z
DTSTART:2026-11-12T07:00:0000Z
DTEND:2026-11-12T07:00:0000Z
SUMMARY:Collecte des matières organiques - Projet résidentiel Terra
LOCATION:
DESCRIPTION:Collecte des matières organiques
END:VEVENT
END:VCALENDAR