BEGIN:VCALENDAR
PRODID:-//Microsoft Corporation//Outlook 14.0 MIMEDIR//EN
VERSION:2.0
METHOD:PUBLISH
BEGIN:VEVENT
UID:1ed4fe8aac710791051804954fcaf79bwww.ville.sainte-anne-de-bellevue.qc.ca
DTSTAMP:20260422T214303Z
DTSTART:2026-07-01T07:00:0000Z
DTEND:2026-07-01T07:00:0000Z
SUMMARY:Collecte des matières organiques - Secteur résidentiel
LOCATION:
DESCRIPTION:Collecte des matières organiques 
END:VEVENT
END:VCALENDAR