BEGIN:VCALENDAR
PRODID:-//Microsoft Corporation//Outlook 14.0 MIMEDIR//EN
VERSION:2.0
METHOD:PUBLISH
BEGIN:VEVENT
UID:045b7da6ca65603881b98f246899c47awww.ville.sainte-anne-de-bellevue.qc.ca
DTSTAMP:20260419T181135Z
DTSTART:2026-10-13T19:30:0000Z
DTEND:2026-10-13T19:30:0000Z
SUMMARY:Conseil municipal : séance ordinaire
LOCATION:
DESCRIPTION:Cette séance aura lieu au centre Harpell, sera ouverte au public et sera également diffusée en direct.

END:VEVENT
END:VCALENDAR