BEGIN:VCALENDAR
PRODID:-//Microsoft Corporation//Outlook 14.0 MIMEDIR//EN
VERSION:2.0
METHOD:PUBLISH
BEGIN:VEVENT
UID:04c8c379823f1cb37edc3d4bc55c7b95www.ville.sainte-anne-de-bellevue.qc.ca
DTSTAMP:20260419T181055Z
DTSTART:2026-09-14T19:30:0000Z
DTEND:2026-09-14T19:30:0000Z
SUMMARY:Conseil municipal : séance ordinaire
LOCATION:
DESCRIPTION:Cette séance aura lieu au centre Harpell, sera ouverte au public et sera également diffusée en direct.

END:VEVENT
END:VCALENDAR