BEGIN:VCALENDAR
PRODID:-//Microsoft Corporation//Outlook 14.0 MIMEDIR//EN
VERSION:2.0
METHOD:PUBLISH
BEGIN:VEVENT
UID:277d34952714e0ad578a5e16a2e71f37www.ville.sainte-anne-de-bellevue.qc.ca
DTSTAMP:20260419T181054Z
DTSTART:2026-08-24T19:30:0000Z
DTEND:2026-08-24T19:30:0000Z
SUMMARY:Conseil municipal : séance ordinaire
LOCATION:
DESCRIPTION:Cette séance aura lieu au centre Harpell, sera ouverte au public et sera également diffusée en direct.

END:VEVENT
END:VCALENDAR