BEGIN:VCALENDAR
PRODID:-//Microsoft Corporation//Outlook 14.0 MIMEDIR//EN
VERSION:2.0
METHOD:PUBLISH
BEGIN:VEVENT
UID:c912f4f63aa7c8cbebdd6d0c9cc059b6www.ville.sainte-anne-de-bellevue.qc.ca
DTSTAMP:20260419T181136Z
DTSTART:2026-05-11T19:30:0000Z
DTEND:2026-05-11T19:30:0000Z
SUMMARY:Conseil municipal : séance ordinaire
LOCATION:
DESCRIPTION:Cette séance aura lieu au centre Harpell, sera ouverte au public et sera également diffusée en direct.
END:VEVENT
END:VCALENDAR